BEGIN:VCALENDAR
VERSION:2.0
PRODID:-//Tukios.com/
BEGIN:VEVENT
UID:240349e5-7b7b-4fc1-8d13-0a140bb24789@www.simplifyiowa.com
DTSTAMP:20260425T000030Z
DTSTART:20260425T151500Z
DTEND:20260425T154500Z
SUMMARY:Graveside Service
DESCRIPTION:
URL:https://www.simplifyiowa.com/obituaries/raymond-burkett
LOCATION:Highland Memory Gardens Cemetery 1 NE 60th Ave  Des Moines IA 
	50303
GEO:41.6705403;-93.6181118
END:VEVENT
END:VCALENDAR