BEGIN:VCALENDAR
VERSION:2.0
PRODID:-//Tukios.com/
BEGIN:VEVENT
UID:d3de2cc8-8fc2-4016-bc90-157871866f32@www.simplifyiowa.com
DTSTAMP:20260421T085236Z
DTSTART:20260425T170000Z
DTEND:20260425T200000Z
SUMMARY:Celebration of Life
DESCRIPTION:
URL:https://www.simplifyiowa.com/obituaries/heather-gibson
LOCATION:VFW - Fort Dodge 518 S 29th St  Fort Dodge IA 50501
GEO:42.5006571;-94.1584665
END:VEVENT
END:VCALENDAR