BEGIN:VCALENDAR
VERSION:2.0
PRODID:-//Tukios.com/
BEGIN:VEVENT
UID:c9b51f10-c1e9-4c8b-8e4f-d1375f480406@www.simplifyiowa.com
DTSTAMP:20260425T000437Z
DTSTART:20260429T143000Z
DTEND:20260429T160000Z
SUMMARY:Visitation
DESCRIPTION:
URL:https://www.simplifyiowa.com/obituaries/beth-kaiser
LOCATION:Heartland Church 1212 NW 36th St  Ankeny IA 50023
GEO:41.7623922;-93.6151017
END:VEVENT
END:VCALENDAR