BEGIN:VCALENDAR
VERSION:2.0
PRODID:-//Tukios.com/
BEGIN:VEVENT
UID:9310975b-3abb-4a75-87cc-32db497f83d0@www.simplifyiowa.com
DTSTAMP:20260425T000556Z
DTSTART:20260429T160000Z
DTEND:20260429T170000Z
SUMMARY:Funeral Service
DESCRIPTION:
URL:https://www.simplifyiowa.com/obituaries/beth-kaiser
LOCATION:Heartland Church 1212 NW 36th St  Ankeny IA 50023
GEO:41.7623922;-93.6151017
END:VEVENT
END:VCALENDAR